BEGIN:VCALENDAR
VERSION:2.0
PRODID:-//La caravane bien lunée - ECPv6.15.20//NONSGML v1.0//EN
CALSCALE:GREGORIAN
METHOD:PUBLISH
X-WR-CALNAME:La caravane bien lunée
X-ORIGINAL-URL:https://lacaravanebienlunee.fr
X-WR-CALDESC:Évènements pour La caravane bien lunée
REFRESH-INTERVAL;VALUE=DURATION:PT1H
X-Robots-Tag:noindex
X-PUBLISHED-TTL:PT1H
BEGIN:VTIMEZONE
TZID:Europe/Paris
BEGIN:DAYLIGHT
TZOFFSETFROM:+0100
TZOFFSETTO:+0200
TZNAME:CEST
DTSTART:20190331T010000
END:DAYLIGHT
BEGIN:STANDARD
TZOFFSETFROM:+0200
TZOFFSETTO:+0100
TZNAME:CET
DTSTART:20191027T010000
END:STANDARD
BEGIN:DAYLIGHT
TZOFFSETFROM:+0100
TZOFFSETTO:+0200
TZNAME:CEST
DTSTART:20200329T010000
END:DAYLIGHT
BEGIN:STANDARD
TZOFFSETFROM:+0200
TZOFFSETTO:+0100
TZNAME:CET
DTSTART:20201025T010000
END:STANDARD
BEGIN:DAYLIGHT
TZOFFSETFROM:+0100
TZOFFSETTO:+0200
TZNAME:CEST
DTSTART:20210328T010000
END:DAYLIGHT
BEGIN:STANDARD
TZOFFSETFROM:+0200
TZOFFSETTO:+0100
TZNAME:CET
DTSTART:20211031T010000
END:STANDARD
END:VTIMEZONE
BEGIN:VEVENT
DTSTART;TZID=Europe/Paris:20200823T103000
DTEND;TZID=Europe/Paris:20200823T143000
DTSTAMP:20260424T082832
CREATED:20200820T133857Z
LAST-MODIFIED:20200820T135824Z
UID:2313-1598178600-1598193000@lacaravanebienlunee.fr
SUMMARY:La Caravane Bien Lunée raconte
DESCRIPTION:Le festival familial Au Chadron magique de Colempce en Haute-Loire (43) régale petits et grands\, des moins de 3 ans jusqu’aux adultes !\n\nLa Caravane Bien Lunée\, Cathy Dupuys\, Conteuse\n*tarif enfant/adulte : 4\,40 euros\nElle et ses marionnettes déroulent le fil de ses histoires: des petites\, des grosses\, des toute z’en couleurs\, des qui font peur\, des salées\, des sucrées\, des qui sentent bon le reviens’y\, des toutes jolies\, des pas encore finies…\nDimanche 10h30-14h30 :\n\nImportant ! Notre festival est maintenu car nous sommes en mesure d’assurer votre sécurité sanitaire si de votre côté vous respectez la distance physique\, le lavage des mains et le règlement de notre Festival. Notre festival est un évènement de petite taille avec 500 personnes par jour et tous les spectacles se dérouleront cette année en extérieur.\nLe port du masque est recommandé et obligatoire pour commander au comptoir boissons et repas.\n\nToutes les infos sur les autres animations du festival Au Chadron magique ici
URL:https://lacaravanebienlunee.fr/event/la-caravane-bien-lunee-raconte/
LOCATION:43150 Chadron\, Lieu-dit Colempce Bas\, Chadron\, 43150\, France
ATTACH;FMTTYPE=image/jpeg:https://lacaravanebienlunee.fr/wp-content/uploads/2020/08/festival-chadron-magique-contes-2020-hauteloire.jpg
END:VEVENT
END:VCALENDAR