BEGIN:VCALENDAR
VERSION:2.0
PRODID:-//La caravane bien lunée - ECPv6.15.20//NONSGML v1.0//EN
CALSCALE:GREGORIAN
METHOD:PUBLISH
X-ORIGINAL-URL:https://lacaravanebienlunee.fr
X-WR-CALDESC:Évènements pour La caravane bien lunée
REFRESH-INTERVAL;VALUE=DURATION:PT1H
X-Robots-Tag:noindex
X-PUBLISHED-TTL:PT1H
BEGIN:VTIMEZONE
TZID:Europe/Paris
BEGIN:DAYLIGHT
TZOFFSETFROM:+0100
TZOFFSETTO:+0200
TZNAME:CEST
DTSTART:20200329T010000
END:DAYLIGHT
BEGIN:STANDARD
TZOFFSETFROM:+0200
TZOFFSETTO:+0100
TZNAME:CET
DTSTART:20201025T010000
END:STANDARD
BEGIN:DAYLIGHT
TZOFFSETFROM:+0100
TZOFFSETTO:+0200
TZNAME:CEST
DTSTART:20210328T010000
END:DAYLIGHT
BEGIN:STANDARD
TZOFFSETFROM:+0200
TZOFFSETTO:+0100
TZNAME:CET
DTSTART:20211031T010000
END:STANDARD
BEGIN:DAYLIGHT
TZOFFSETFROM:+0100
TZOFFSETTO:+0200
TZNAME:CEST
DTSTART:20220327T010000
END:DAYLIGHT
BEGIN:STANDARD
TZOFFSETFROM:+0200
TZOFFSETTO:+0100
TZNAME:CET
DTSTART:20221030T010000
END:STANDARD
END:VTIMEZONE
BEGIN:VEVENT
DTSTART;TZID=Europe/Paris:20210606T170000
DTEND;TZID=Europe/Paris:20210606T183000
DTSTAMP:20260423T141441
CREATED:20210530T194014Z
LAST-MODIFIED:20210530T194014Z
UID:2854-1622998800-1623004200@lacaravanebienlunee.fr
SUMMARY:L'ARBRE ENCHANTEUR
DESCRIPTION:Conte et chant se mêlent dans cette création musicale inspirée des lettres de Mon Moulin d’Alphonse Daudet. \nRéservation conseillée : 06 08 67 02 56 \n12 € adultes \n6€ pour les moins de 12 ans \n  \n  \n 
URL:https://lacaravanebienlunee.fr/event/larbre-enchanteur/
LOCATION:Centre Culturel de Jassans\, Centre Culturel de Jassans\, Jassans Riottier\, 01480\, France
ORGANIZER;CN="Association Tous Chanteurs":MAILTO:chanteurs@gmail.com
END:VEVENT
END:VCALENDAR