BEGIN:VCALENDAR
VERSION:2.0
PRODID:-//La caravane bien lunée - ECPv6.15.20//NONSGML v1.0//EN
CALSCALE:GREGORIAN
METHOD:PUBLISH
X-ORIGINAL-URL:https://lacaravanebienlunee.fr
X-WR-CALDESC:Évènements pour La caravane bien lunée
REFRESH-INTERVAL;VALUE=DURATION:PT1H
X-Robots-Tag:noindex
X-PUBLISHED-TTL:PT1H
BEGIN:VTIMEZONE
TZID:Europe/Paris
BEGIN:DAYLIGHT
TZOFFSETFROM:+0100
TZOFFSETTO:+0200
TZNAME:CEST
DTSTART:20210328T010000
END:DAYLIGHT
BEGIN:STANDARD
TZOFFSETFROM:+0200
TZOFFSETTO:+0100
TZNAME:CET
DTSTART:20211031T010000
END:STANDARD
BEGIN:DAYLIGHT
TZOFFSETFROM:+0100
TZOFFSETTO:+0200
TZNAME:CEST
DTSTART:20220327T010000
END:DAYLIGHT
BEGIN:STANDARD
TZOFFSETFROM:+0200
TZOFFSETTO:+0100
TZNAME:CET
DTSTART:20221030T010000
END:STANDARD
BEGIN:DAYLIGHT
TZOFFSETFROM:+0100
TZOFFSETTO:+0200
TZNAME:CEST
DTSTART:20230326T010000
END:DAYLIGHT
BEGIN:STANDARD
TZOFFSETFROM:+0200
TZOFFSETTO:+0100
TZNAME:CET
DTSTART:20231029T010000
END:STANDARD
END:VTIMEZONE
BEGIN:VEVENT
DTSTART;TZID=Europe/Paris:20220112T150000
DTEND;TZID=Europe/Paris:20220112T160000
DTSTAMP:20260422T235352
CREATED:20220111T114545Z
LAST-MODIFIED:20220111T114634Z
UID:2978-1641999600-1642003200@lacaravanebienlunee.fr
SUMMARY:Ram Dam d'histoires gelées
DESCRIPTION:Venez réchauffer vos oreilles auprès d’histoires d’hiver. \nLe Ram Dam d’histoires gelées ce sont des histoires qui tombent\, comme des flocons. Il y en a de toutes les couleurs\, des grosses\, de p’tites\, des salées\, des sucrées. Mémé Margotte en a plein le chapeau\, Vermicelle en a plein les chaussettes\, Popcorn en a raz la crête ! \nLe merdredi 12 janvier à 15h (durée : 45min). \nA la maison de quartier de Caluire \nGratuit \nSpectacle familial \n 
URL:https://lacaravanebienlunee.fr/event/ram-dam-dhistoires-gelees-4/
LOCATION:Maison de quartier de Saint Clair\, 70 grande rue de saint clair\, Caluire-et-Cuire\, 69300\, France
ATTACH;FMTTYPE=image/jpeg:https://lacaravanebienlunee.fr/wp-content/uploads/2021/06/conte-marionnette-enfants-adultes-familles-franklin.jpg
END:VEVENT
BEGIN:VEVENT
DTSTART;TZID=Europe/Paris:20220126T100000
DTEND;TZID=Europe/Paris:20220126T110000
DTSTAMP:20260422T235352
CREATED:20220124T132239Z
LAST-MODIFIED:20220125T131556Z
UID:2993-1643191200-1643194800@lacaravanebienlunee.fr
SUMMARY:Atelier conte\, histoire et oralité
DESCRIPTION:Ateliers « Conte\, histoire et oralité » avec un groupe d’enfants du PRE (programme de réussite éducative du CIAS de la ville de Villefranche-sur-Saône). \nTous les mercredi matins de 10h à 11h. Jusqu’à fin mai 2022. \nA la médiathèque Pierre-Mendès-France à Villefranche-sur-Saône. \nSi vous aussi vous avez envie de réaliser un stage ou un atelier\, n’hésitez pas à m’en informer via le formulaire de contact !
URL:https://lacaravanebienlunee.fr/event/atelier-conte-histoire-et-oralite-2/
LOCATION:Médiathèque Pierre Mendès France\, 79 rue des Jardiniers\, Villefranche-sur-Saône\, 69400\, France
END:VEVENT
END:VCALENDAR