BEGIN:VCALENDAR
VERSION:2.0
PRODID:-//La caravane bien lunée - ECPv6.15.20//NONSGML v1.0//EN
CALSCALE:GREGORIAN
METHOD:PUBLISH
X-ORIGINAL-URL:https://lacaravanebienlunee.fr
X-WR-CALDESC:Évènements pour La caravane bien lunée
REFRESH-INTERVAL;VALUE=DURATION:PT1H
X-Robots-Tag:noindex
X-PUBLISHED-TTL:PT1H
BEGIN:VTIMEZONE
TZID:Europe/Paris
BEGIN:DAYLIGHT
TZOFFSETFROM:+0100
TZOFFSETTO:+0200
TZNAME:CEST
DTSTART:20210328T010000
END:DAYLIGHT
BEGIN:STANDARD
TZOFFSETFROM:+0200
TZOFFSETTO:+0100
TZNAME:CET
DTSTART:20211031T010000
END:STANDARD
BEGIN:DAYLIGHT
TZOFFSETFROM:+0100
TZOFFSETTO:+0200
TZNAME:CEST
DTSTART:20220327T010000
END:DAYLIGHT
BEGIN:STANDARD
TZOFFSETFROM:+0200
TZOFFSETTO:+0100
TZNAME:CET
DTSTART:20221030T010000
END:STANDARD
BEGIN:DAYLIGHT
TZOFFSETFROM:+0100
TZOFFSETTO:+0200
TZNAME:CEST
DTSTART:20230326T010000
END:DAYLIGHT
BEGIN:STANDARD
TZOFFSETFROM:+0200
TZOFFSETTO:+0100
TZNAME:CET
DTSTART:20231029T010000
END:STANDARD
END:VTIMEZONE
BEGIN:VEVENT
DTSTART;TZID=Europe/Paris:20220702T160000
DTEND;TZID=Europe/Paris:20220702T190000
DTSTAMP:20260422T133019
CREATED:20220625T130111Z
LAST-MODIFIED:20220625T130422Z
UID:3312-1656777600-1656788400@lacaravanebienlunee.fr
SUMMARY:La caravane bien lunée raconte...
DESCRIPTION:lors du 1er festival HomArt ! \nJe vous propose\, accompagnée de mes marionnettes\, plusieurs séances de contes de 30min en caravane\, dès 16h. \n* 16h \n* 16h45 \n* 17h30 \n*18h15 \nEt retrouvez d’autre animations (jeux\, spectacle\, buvette\, etc.) tout au long de la soirée. \nFlyer Homart 2022 \nAu Galet – Espace Culturel de Reyrieux (rue du collège 01600 Reyrieux)  \nTout public \n6€ la place \nPensez à réserver : https://www.helloasso.com/associations/homart/evenements/1er-festival-homart-contes-en-caravane \nPour plus de renseignements\, vous pouvez contacter l’Association Homart :\n \nTél : 06 09 27 69 57  \nMail : contact@asso-homart.fr
URL:https://lacaravanebienlunee.fr/event/la-caravane-bien-lunee-raconte-7/
LOCATION:Le Galet – Espace Culturel de Reyrieux\, rue du collège\, Reyrieux\, 01600\, France
ORGANIZER;CN="Association Homart":MAILTO:contact@asso-homart.fr
END:VEVENT
BEGIN:VEVENT
DTSTART;TZID=Europe/Paris:20220706T093000
DTEND;TZID=Europe/Paris:20220706T130000
DTSTAMP:20260422T133019
CREATED:20220625T132354Z
LAST-MODIFIED:20220625T132411Z
UID:3319-1657099800-1657112400@lacaravanebienlunee.fr
SUMMARY:La caravane bien lunée raconte...
DESCRIPTION:… dans le jardin de la médiathèque ESQAL de Quincieux ! \n \n  \nRetrouvons-nous pour un moment de douceur et de convivialité dans les rondeurs de la Caravane Bien Lunée.  \nAccompagnée de mon petit peuple\, je vous ferai voyager à travers contes et merveilles. \nVenez voir et entendre les graines de contes pousser et se propager dans le jardin de la médiathèque. \n  \nPlusieurs séances ouvertes à tous et gratuites : \n* 9h30 \n* 10h30 \n* 11h30 \n* 12h30 \nUne séance supplémentaire à 10h sera réservée aux enfants de la crèche de Quincieux. \nMédiathèque ESQALE\n8\, chemin Saint Laurent\n69650 Quincieux \nPlus de renseignements à mediatheque@quincieux.fr ou à la médiathèque ou https://bibliotheque.quincieux.fr/au-programme
URL:https://lacaravanebienlunee.fr/event/la-caravane-bien-lunee-raconte-8/
LOCATION:Médiathèque ESQALE\, 8 chemin de Saint Laurent\, Quincieux\, 69650\, France
ORGANIZER;CN="M%C3%A9diath%C3%A8que ESQALE":MAILTO:mediatheque@quincieux.fr
END:VEVENT
BEGIN:VEVENT
DTSTART;TZID=Europe/Paris:20220709T153000
DTEND;TZID=Europe/Paris:20220709T190000
DTSTAMP:20260422T133019
CREATED:20220625T134445Z
LAST-MODIFIED:20220625T134535Z
UID:3324-1657380600-1657393200@lacaravanebienlunee.fr
SUMMARY:La caravane bien lunée raconte...
DESCRIPTION:… au Festival Les Esclaffades !\nFestival d’arts de la rue sur 2 jours : samedi 9 et dimanche 10 juillet. \nRetrouvons-nous pour un moment de partage et de convivialité\, de rires et de joies\, d’Arts et de contes ! \nLes Esclaffades nous promettent un programme haut en couleurs\, pour lequel j’ai l’immense plaisir de participer. \nJe vous propose tout au long de l’après-midi\, des séances de contes de 30 minutes en caravane. \nLa Caravane Bien Lunée sera également présente le dimanche de 14h30 à 18h. \n  \nPensez à réserver : https://www.helloasso.com/associations/amicale-laique-de-saint-helen/evenements/festival-les-esclaffades-2022  \nPour plus de renseignements : http://www.festival-esclaffades.com/bienvenue-sur-le-site-des-esclaffades-2/
URL:https://lacaravanebienlunee.fr/event/la-caravane-bien-lunee-raconte-9/
LOCATION:Saint-Helen\, Rue des Ecoliers\, Saint-Hélen\, 22100\, France
ORGANIZER;CN="Amicale La%C3%AFque de Saint H%C3%A9len":MAILTO:esclaffadesbillets@gmail.com
END:VEVENT
BEGIN:VEVENT
DTSTART;TZID=Europe/Paris:20220710T143000
DTEND;TZID=Europe/Paris:20220710T180000
DTSTAMP:20260422T133019
CREATED:20220625T134739Z
LAST-MODIFIED:20220625T134739Z
UID:3329-1657463400-1657476000@lacaravanebienlunee.fr
SUMMARY:La caravane bien lunée raconte...
DESCRIPTION:… au Festival Les Esclaffades !\nFestival d’arts de la rue sur 2 jours : samedi 9 et dimanche 10 juillet. \nRetrouvons-nous pour un moment de partage et de convivialité\, de rires et de joies\, d’Arts et de contes ! \nLes Esclaffades nous promettent un programme haut en couleurs\, pour lequel j’ai l’immense plaisir de participer. \nJe vous propose tout au long de l’après-midi\, des séances de contes de 30 minutes en caravane. \nLa Caravane Bien Lunée sera également présente le samedi de 15h30 à 19h. \n  \nPensez à réserver : https://www.helloasso.com/associations/amicale-laique-de-saint-helen/evenements/festival-les-esclaffades-2022  \nRetrouvez l’intégralité du programme du festival : http://www.festival-esclaffades.com/bienvenue-sur-le-site-des-esclaffades-2/
URL:https://lacaravanebienlunee.fr/event/la-caravane-bien-lunee-raconte-10/
LOCATION:Saint-Helen\, Rue des Ecoliers\, Saint-Hélen\, 22100\, France
ORGANIZER;CN="Amicale La%C3%AFque de Saint H%C3%A9len":MAILTO:esclaffadesbillets@gmail.com
END:VEVENT
BEGIN:VEVENT
DTSTART;VALUE=DATE:20220721
DTEND;VALUE=DATE:20220722
DTSTAMP:20260422T133019
CREATED:20220625T141052Z
LAST-MODIFIED:20220625T141052Z
UID:3334-1658361600-1658447999@lacaravanebienlunee.fr
SUMMARY:La caravane bien lunée raconte...
DESCRIPTION:… pour l’événement PARTIR EN LIVRES ! \nLe réseau des bibliothèques de Dombes Saône Vallée se mobilise pour vous faire découvrir le livre sous toutes ses formes : \nDes contes en caravane mais aussi une sieste musicale\, des ateliers d’écriture\, un concert\, etc. \nA la Maison Eclusière de Parcieux (01). \nPlus d’informations à venir… \n  \nRenseignements : 04.74.00.36.32  ou à  ecluse@karakib.org \nRéservations : 09.84.36.41.40  ou à  resa@karabib.org
URL:https://lacaravanebienlunee.fr/event/la-caravane-bien-lunee-raconte-11/
LOCATION:Maison Eclusière de Parcieux\, chemin des varennes\, Parcieux\, 01600\, France
END:VEVENT
END:VCALENDAR