BEGIN:VCALENDAR
VERSION:2.0
PRODID:-//La caravane bien lunée - ECPv6.15.20//NONSGML v1.0//EN
CALSCALE:GREGORIAN
METHOD:PUBLISH
X-WR-CALNAME:La caravane bien lunée
X-ORIGINAL-URL:https://lacaravanebienlunee.fr
X-WR-CALDESC:Évènements pour La caravane bien lunée
REFRESH-INTERVAL;VALUE=DURATION:PT1H
X-Robots-Tag:noindex
X-PUBLISHED-TTL:PT1H
BEGIN:VTIMEZONE
TZID:Europe/Paris
BEGIN:DAYLIGHT
TZOFFSETFROM:+0100
TZOFFSETTO:+0200
TZNAME:CEST
DTSTART:20220327T010000
END:DAYLIGHT
BEGIN:STANDARD
TZOFFSETFROM:+0200
TZOFFSETTO:+0100
TZNAME:CET
DTSTART:20221030T010000
END:STANDARD
BEGIN:DAYLIGHT
TZOFFSETFROM:+0100
TZOFFSETTO:+0200
TZNAME:CEST
DTSTART:20230326T010000
END:DAYLIGHT
BEGIN:STANDARD
TZOFFSETFROM:+0200
TZOFFSETTO:+0100
TZNAME:CET
DTSTART:20231029T010000
END:STANDARD
BEGIN:DAYLIGHT
TZOFFSETFROM:+0100
TZOFFSETTO:+0200
TZNAME:CEST
DTSTART:20240331T010000
END:DAYLIGHT
BEGIN:STANDARD
TZOFFSETFROM:+0200
TZOFFSETTO:+0100
TZNAME:CET
DTSTART:20241027T010000
END:STANDARD
END:VTIMEZONE
BEGIN:VEVENT
DTSTART;TZID=Europe/Paris:20230318T090000
DTEND;TZID=Europe/Paris:20230318T090000
DTSTAMP:20260421T192857
CREATED:20230220T132748Z
LAST-MODIFIED:20230220T132748Z
UID:3509-1679130000-1679130000@lacaravanebienlunee.fr
SUMMARY:Formation
DESCRIPTION:Formation contes et histoires à raconter aux tout petits\nFormation aux assistants maternels de Lyon et ses environs. \nDeuxième journée de formation le 1er avril 2023. \n \nN’hésitez pas à me contacter pour des formations et accompagnements sur mesure auprès de professionnels\, particuliers ou scolaires.  \nPlusieurs formes sont possibles que je vous invite à découvrir en cliquant sur l’onglet « Accompagnement » sur le menu du site. \nApprendre à préparer le corps et la voix avant de raconter\, choisir un conte ou une histoire\, se l’approprier\, travailler sur les images mentales\, la structure d’un conte\, l’improvisation… et se faire plaisir ! \n 
URL:https://lacaravanebienlunee.fr/event/formation-4/
LOCATION:Lyon Formations\, 1 place Gensoul\, Lyon\, 69002
ORGANIZER;CN="Lyon Formations":MAILTO:https://www.lyonformation.com/contact
END:VEVENT
END:VCALENDAR