BEGIN:VCALENDAR
VERSION:2.0
PRODID:-//La caravane bien lunée - ECPv6.15.20//NONSGML v1.0//EN
CALSCALE:GREGORIAN
METHOD:PUBLISH
X-WR-CALNAME:La caravane bien lunée
X-ORIGINAL-URL:https://lacaravanebienlunee.fr
X-WR-CALDESC:Évènements pour La caravane bien lunée
REFRESH-INTERVAL;VALUE=DURATION:PT1H
X-Robots-Tag:noindex
X-PUBLISHED-TTL:PT1H
BEGIN:VTIMEZONE
TZID:Europe/Paris
BEGIN:DAYLIGHT
TZOFFSETFROM:+0100
TZOFFSETTO:+0200
TZNAME:CEST
DTSTART:20190331T010000
END:DAYLIGHT
BEGIN:STANDARD
TZOFFSETFROM:+0200
TZOFFSETTO:+0100
TZNAME:CET
DTSTART:20191027T010000
END:STANDARD
BEGIN:DAYLIGHT
TZOFFSETFROM:+0100
TZOFFSETTO:+0200
TZNAME:CEST
DTSTART:20200329T010000
END:DAYLIGHT
BEGIN:STANDARD
TZOFFSETFROM:+0200
TZOFFSETTO:+0100
TZNAME:CET
DTSTART:20201025T010000
END:STANDARD
BEGIN:DAYLIGHT
TZOFFSETFROM:+0100
TZOFFSETTO:+0200
TZNAME:CEST
DTSTART:20210328T010000
END:DAYLIGHT
BEGIN:STANDARD
TZOFFSETFROM:+0200
TZOFFSETTO:+0100
TZNAME:CET
DTSTART:20211031T010000
END:STANDARD
END:VTIMEZONE
BEGIN:VEVENT
DTSTART;TZID=Europe/Paris:20201021T140000
DTEND;TZID=Europe/Paris:20201021T163000
DTSTAMP:20260424T064653
CREATED:20200820T152606Z
LAST-MODIFIED:20200820T153738Z
UID:2336-1603288800-1603297800@lacaravanebienlunee.fr
SUMMARY:L’Arrosoir à Histoires + atelier marionnettes chaussettes
DESCRIPTION:L’association Lecture et Partage de Villefranche invite la conteuse pour 2 temps récréatifs  à destination des familles.\nEnfants à partir de 3 ans \n\nun temps de contes tout droit sortis de l’imagination de la conteuse\nun temps d’atelier de fabrication de marionnette chaussette\n\nCe spectacle s’adapte à tous les âges.\nIl est conçu pour que les enfants et les adultes puissent chanter\, réfléchir\, rire\, rêver ensemble et se retrouver dans ces récits.\nCe spectacle allie la tendresse et la joie d’être ensemble.
URL:https://lacaravanebienlunee.fr/event/larrosoir-a-histoires-atelier-marionnettes-chaussettes/
LOCATION:Ecole Jean Bonthoux\, 279 rue Pierre Guillermet\, Villefranche-sur-Saône\, 69400\, France
ATTACH;FMTTYPE=image/jpeg:https://lacaravanebienlunee.fr/wp-content/uploads/2020/06/atelier-parents-enfants-conte-fabrication.jpg
END:VEVENT
END:VCALENDAR