BEGIN:VCALENDAR
VERSION:2.0
PRODID:-//La caravane bien lunée - ECPv6.15.20//NONSGML v1.0//EN
CALSCALE:GREGORIAN
METHOD:PUBLISH
X-ORIGINAL-URL:https://lacaravanebienlunee.fr
X-WR-CALDESC:Évènements pour La caravane bien lunée
REFRESH-INTERVAL;VALUE=DURATION:PT1H
X-Robots-Tag:noindex
X-PUBLISHED-TTL:PT1H
BEGIN:VTIMEZONE
TZID:Europe/Paris
BEGIN:DAYLIGHT
TZOFFSETFROM:+0100
TZOFFSETTO:+0200
TZNAME:CEST
DTSTART:20190331T010000
END:DAYLIGHT
BEGIN:STANDARD
TZOFFSETFROM:+0200
TZOFFSETTO:+0100
TZNAME:CET
DTSTART:20191027T010000
END:STANDARD
BEGIN:DAYLIGHT
TZOFFSETFROM:+0100
TZOFFSETTO:+0200
TZNAME:CEST
DTSTART:20200329T010000
END:DAYLIGHT
BEGIN:STANDARD
TZOFFSETFROM:+0200
TZOFFSETTO:+0100
TZNAME:CET
DTSTART:20201025T010000
END:STANDARD
BEGIN:DAYLIGHT
TZOFFSETFROM:+0100
TZOFFSETTO:+0200
TZNAME:CEST
DTSTART:20210328T010000
END:DAYLIGHT
BEGIN:STANDARD
TZOFFSETFROM:+0200
TZOFFSETTO:+0100
TZNAME:CET
DTSTART:20211031T010000
END:STANDARD
END:VTIMEZONE
BEGIN:VEVENT
DTSTART;TZID=Europe/Paris:20201028T160000
DTEND;TZID=Europe/Paris:20201028T170000
DTSTAMP:20260424T065808
CREATED:20200820T155139Z
LAST-MODIFIED:20201027T115054Z
UID:2345-1603900800-1603904400@lacaravanebienlunee.fr
SUMMARY:Mina Bobine
DESCRIPTION:​Avec Cathy Dupuys \nDepuis qu’elle est petite\, Mina Bobine mesure\, coupe\, pique et coud\, et rembobine…\nEt les années filent…  Un matin\, le tonnerre gronde dans la tête de Mina et dans son cœur aussi. Les fils s’emmêlent… De fil en aiguille\, Mina va trouver des liens de toute autre nature à tisser et à préserver. \nAvec beaucoup de délicatesse\, la conteuse déroule le fil de la vie de Mina Bobine\, personnage haut en couleurs et en émotions. Un spectacle rempli de sonorités\, de chansons à gestes\, d’objets et de surprise. A voir en famille. \nSpectacle joué à l’issue d’une Résidence d’artistes au Centre culturel de Jassans. \nEn raison des mesures sanitaires en vigueur\, du fait de la Covid\, une 2e séance a été programmé à 14h\, afin de respecter la distanciation. \nJeune public à partir de 4 ans\n10 € /Tarif jeunes : 5 €
URL:https://lacaravanebienlunee.fr/event/mina-bobine/
LOCATION:Centre Culturel de Jassans\, Centre Culturel de Jassans\, Jassans Riottier\, 01480\, France
ATTACH;FMTTYPE=image/jpeg:https://lacaravanebienlunee.fr/wp-content/uploads/2020/06/conte-musical-mina-bobine.jpg
ORGANIZER;CN="Centre culturel de Jassans":MAILTO:aicar@wanadoo.fr
END:VEVENT
END:VCALENDAR