BEGIN:VCALENDAR
VERSION:2.0
PRODID:-//La caravane bien lunée - ECPv6.15.20//NONSGML v1.0//EN
CALSCALE:GREGORIAN
METHOD:PUBLISH
X-ORIGINAL-URL:https://lacaravanebienlunee.fr
X-WR-CALDESC:Évènements pour La caravane bien lunée
REFRESH-INTERVAL;VALUE=DURATION:PT1H
X-Robots-Tag:noindex
X-PUBLISHED-TTL:PT1H
BEGIN:VTIMEZONE
TZID:Europe/Paris
BEGIN:DAYLIGHT
TZOFFSETFROM:+0100
TZOFFSETTO:+0200
TZNAME:CEST
DTSTART:20190331T010000
END:DAYLIGHT
BEGIN:STANDARD
TZOFFSETFROM:+0200
TZOFFSETTO:+0100
TZNAME:CET
DTSTART:20191027T010000
END:STANDARD
BEGIN:DAYLIGHT
TZOFFSETFROM:+0100
TZOFFSETTO:+0200
TZNAME:CEST
DTSTART:20200329T010000
END:DAYLIGHT
BEGIN:STANDARD
TZOFFSETFROM:+0200
TZOFFSETTO:+0100
TZNAME:CET
DTSTART:20201025T010000
END:STANDARD
BEGIN:DAYLIGHT
TZOFFSETFROM:+0100
TZOFFSETTO:+0200
TZNAME:CEST
DTSTART:20210328T010000
END:DAYLIGHT
BEGIN:STANDARD
TZOFFSETFROM:+0200
TZOFFSETTO:+0100
TZNAME:CET
DTSTART:20211031T010000
END:STANDARD
END:VTIMEZONE
BEGIN:VEVENT
DTSTART;TZID=Europe/Paris:20201212T100000
DTEND;TZID=Europe/Paris:20201212T120000
DTSTAMP:20260424T035254
CREATED:20200820T163942Z
LAST-MODIFIED:20201203T205828Z
UID:2372-1607767200-1607774400@lacaravanebienlunee.fr
SUMMARY:Ram-Dam d’histoires gelées (reporté cause Covid)
DESCRIPTION:REPORT : date non fixée \nDeux fois plus d’Histoires gelées avec 2 séances organisées à la bibliothèque de Lyon 3e\, 86 rue Lacassagne à 10 h et à 11 h !\nA partager en famille : tous publics ! \nC’est l’hiver\, Noël approche… Tout est calme\, reposé… Non !\nPas vraiment !\nDepuis que Franklin est arrivé avec La Caravane Bien Lunée\, les histoires tombent du ciel\, comme des flocons. \nIl y en a de toutes les couleurs\, des grosses\, de p’tites\, des salées\, des sucrées. Mémé Margotte en a plein le chapeau\, Vermicelle en a plein les chaussettes\, Popcorn en a raz la crête ! \nDes histoires pour se réchauffer\, pour rire\, pour rêver… histoires à partager en attendant Noël.
URL:https://lacaravanebienlunee.fr/event/ram-dam-dhistoires-gelees-2/
LOCATION:Bibliothèque municipale de Lyon 3ème Lacassagne\, 86 avenue Lacassagne\, Lyon\, 69003
ATTACH;FMTTYPE=image/jpeg:https://lacaravanebienlunee.fr/wp-content/uploads/2020/06/conte-jeune-public-chasseours-scaled.jpg
END:VEVENT
END:VCALENDAR