BEGIN:VCALENDAR
VERSION:2.0
PRODID:-//La caravane bien lunée - ECPv6.15.20//NONSGML v1.0//EN
CALSCALE:GREGORIAN
METHOD:PUBLISH
X-ORIGINAL-URL:https://lacaravanebienlunee.fr
X-WR-CALDESC:Évènements pour La caravane bien lunée
REFRESH-INTERVAL;VALUE=DURATION:PT1H
X-Robots-Tag:noindex
X-PUBLISHED-TTL:PT1H
BEGIN:VTIMEZONE
TZID:Europe/Paris
BEGIN:DAYLIGHT
TZOFFSETFROM:+0100
TZOFFSETTO:+0200
TZNAME:CEST
DTSTART:20200329T010000
END:DAYLIGHT
BEGIN:STANDARD
TZOFFSETFROM:+0200
TZOFFSETTO:+0100
TZNAME:CET
DTSTART:20201025T010000
END:STANDARD
BEGIN:DAYLIGHT
TZOFFSETFROM:+0100
TZOFFSETTO:+0200
TZNAME:CEST
DTSTART:20210328T010000
END:DAYLIGHT
BEGIN:STANDARD
TZOFFSETFROM:+0200
TZOFFSETTO:+0100
TZNAME:CET
DTSTART:20211031T010000
END:STANDARD
BEGIN:DAYLIGHT
TZOFFSETFROM:+0100
TZOFFSETTO:+0200
TZNAME:CEST
DTSTART:20220327T010000
END:DAYLIGHT
BEGIN:STANDARD
TZOFFSETFROM:+0200
TZOFFSETTO:+0100
TZNAME:CET
DTSTART:20221030T010000
END:STANDARD
END:VTIMEZONE
BEGIN:VEVENT
DTSTART;TZID=Europe/Paris:20211120T090000
DTEND;TZID=Europe/Paris:20211120T170000
DTSTAMP:20260423T053849
CREATED:20210526T104711Z
LAST-MODIFIED:20210703T150309Z
UID:2827-1637398800-1637427600@lacaravanebienlunee.fr
SUMMARY:Formation "contes et histoires à raconter"
DESCRIPTION:Destinée aux assistant(e)s maternel(le)s. \nFormation dans le catalogue IPERIA.
URL:https://lacaravanebienlunee.fr/event/formation-contes-et-histoires-a-raconter-5/
LOCATION:Lyon Formations\, 1 place Gensoul\, Lyon\, 69002
ATTACH;FMTTYPE=image/jpeg:https://lacaravanebienlunee.fr/wp-content/uploads/2021/05/miniature-formation-am-scaled.jpg
ORGANIZER;CN="Lyon Formations":MAILTO:https://www.lyonformation.com/contact
END:VEVENT
END:VCALENDAR