BEGIN:VCALENDAR
VERSION:2.0
PRODID:-//La caravane bien lunée - ECPv6.15.20//NONSGML v1.0//EN
CALSCALE:GREGORIAN
METHOD:PUBLISH
X-ORIGINAL-URL:https://lacaravanebienlunee.fr
X-WR-CALDESC:Évènements pour La caravane bien lunée
REFRESH-INTERVAL;VALUE=DURATION:PT1H
X-Robots-Tag:noindex
X-PUBLISHED-TTL:PT1H
BEGIN:VTIMEZONE
TZID:Europe/Paris
BEGIN:DAYLIGHT
TZOFFSETFROM:+0100
TZOFFSETTO:+0200
TZNAME:CEST
DTSTART:20220327T010000
END:DAYLIGHT
BEGIN:STANDARD
TZOFFSETFROM:+0200
TZOFFSETTO:+0100
TZNAME:CET
DTSTART:20221030T010000
END:STANDARD
BEGIN:DAYLIGHT
TZOFFSETFROM:+0100
TZOFFSETTO:+0200
TZNAME:CEST
DTSTART:20230326T010000
END:DAYLIGHT
BEGIN:STANDARD
TZOFFSETFROM:+0200
TZOFFSETTO:+0100
TZNAME:CET
DTSTART:20231029T010000
END:STANDARD
BEGIN:DAYLIGHT
TZOFFSETFROM:+0100
TZOFFSETTO:+0200
TZNAME:CEST
DTSTART:20240331T010000
END:DAYLIGHT
BEGIN:STANDARD
TZOFFSETFROM:+0200
TZOFFSETTO:+0100
TZNAME:CET
DTSTART:20241027T010000
END:STANDARD
END:VTIMEZONE
BEGIN:VEVENT
DTSTART;VALUE=DATE:20230418
DTEND;VALUE=DATE:20230419
DTSTAMP:20260421T193548
CREATED:20230417T130424Z
LAST-MODIFIED:20230417T131843Z
UID:3562-1681776000-1681862399@lacaravanebienlunee.fr
SUMMARY:La caravane bien lunée raconte...
DESCRIPTION:… au parc municipal de Prissé (71960) !\n \nTout public\, à partir de 2 ans. \nAdulte accompagnant obligatoire. \n4 séances de 30 minutes :\n \n10h30 – 11h \n11h30 – 12h \n14h – 14h30 \n15h – 15h30 \n5 euros par personne \nSur réservation uniquement : 03 85 35 82 81\n \nPlus d’informations et réservations en cliquant ici \n 
URL:https://lacaravanebienlunee.fr/event/la-caravane-bien-lunee-raconte-12/
LOCATION:Parc municipal de Prissé\, Parking du parc municipal\, Prissé\, 71960\, France
END:VEVENT
END:VCALENDAR